BEGIN:VCALENDAR
PRODID:-//hacksw/handcal//NONSGML v1.0//EN
VERSION:2.0
METHOD:PUBLISH
BEGIN:VEVENT
DTSTART:20211117T213000Z
DTEND:20211118T003000Z
LOCATION:Toftrees Golf Resort
UID:2197020211117T213000ZAnnual Meeting & Discussion of Year-End Planning Considerations
DTSTAMP:20260425T221204Z
DESCRIPTION:\n  \n4:15 pm                Registration \n  \n4:30 pm                Presentation & Annual Meeting (Announcements & Board Member Elections) \n  \n5:30-7:30 pm       Social Time with Appetizers & Beverages \n  \n  \n  \nRSVP: \n  \nLarry Mroz: laurence.mroz@pnc.com or 814-231-6952 \n  \nGuests are welcome to attend, $20 at door. Please inquire about potential guest fee exceptions for new prospective CREPC members. \n  \n  \n  \nDetails: \n  \nPresentation to feature a round-table discussions regarding year-end planning considerations, facilitated by Larry Mroz. There will also be a slate of names presented for the CREPC membership to consider for election to the board. If you may be interested in getting more involved, please contact Larry Mroz or Chris Carver. \n  \n  \n 
SUMMARY:Annual Meeting & Discussion of Year-End Planning Considerations - Centre Region Estate Planning Council 
PRIORITY:3
BEGIN:VALARM
TRIGGER:PT18H
ACTION:DISPLAY
DESCRIPTION:Reminder
END:VALARM
END:VEVENT
END:VCALENDAR