BEGIN:VCALENDAR
PRODID:-//hacksw/handcal//NONSGML v1.0//EN
VERSION:2.0
METHOD:PUBLISH
BEGIN:VEVENT
DTSTART:20201031T040000Z
DTEND:20201101T030000Z
LOCATION:
UID:2017720201031T040000ZAlzheimer’s Association Walk
DTSTAMP:20260419T143956Z
DESCRIPTION:\nCREPC State College Alzheimer's Association Walk Announcement\n  \n You’re invited to join our team for the 2020 Alzheimer's Association Walk to End Alzheimer's®\n  \n As a community outreach effort, CREPC is a t-shirt sponsor for the event on October 31, 2020.\n  \n Walk t-shirts are expected to be sent to those that register (join our team!) and raise at least $100 by October 1, and thereafter based on continued availability.\n  \n While the event will be virtual this year, we wanted to invite you to participate as a participant or donor.\n  \n Upon accessing the link below, you may donate to the team or JOIN OUR TEAM. Those that “join our team” as a participant will be ‘recognized’ as a walker (and expected to be t-shirt eligible, subject to continued availability). With some irony and meaningfulness, $1041 is our team’s fundraising goal.\n  \n Below is the link to the Centre Region Estate Planning Council TEAM PAGE:\n[https://act.alz.org/site/TR/Walk2020/PA-GreaterPennsylvania?team_id=643299&pg=team&fr_id=13814](http://act.alz.org/site/TR/Walk2020/PA-GreaterPennsylvania?team_id=643299&pg=team&fr_id=13814)\n  \n Rather than join the CREPC team, you’re welcome to start your own team (we noted some of our members already have) and/or invite family or friends to participate too.\n  \n We appreciate your support! So many of the members of the Centre Region Estate Planning Council have had family members, clients and friends impacted with some level of dementia. The challenges faced by those impacted by Alzheimer's is even more heartbreaking during this global pandemic. Support our team - or start your own - for the Alzheimer's Association Walk to End Alzheimer's®, the world’s largest event to raise awareness and funds for Alzheimer’s care, support and research.\n  \n Hope you’ll consider joining our team today. If you have any questions, feel free to contact Larry Mroz at larry57mroz@gmail.com or [814-449-6657](tel:814-449-6657)\n \n \n
SUMMARY:Alzheimer’s Association Walk - Centre Region Estate Planning Council 
PRIORITY:3
BEGIN:VALARM
TRIGGER:PT18H
ACTION:DISPLAY
DESCRIPTION:Reminder
END:VALARM
END:VEVENT
END:VCALENDAR