BEGIN:VCALENDAR
PRODID:-//hacksw/handcal//NONSGML v1.0//EN
VERSION:2.0
METHOD:PUBLISH
BEGIN:VEVENT
DTSTART:20140611T190000Z
DTEND:20140611T080000Z
LOCATION:Kish Bank
UID:1048220140611T190000ZCharitable Strategies
DTSTAMP:20260422T063941Z
DESCRIPTION:\n\n \n \n \n \n \nYou are cordially invited to attend the Kish Bank Estate Planning Webinar Sponsored by the National Association of Estate Planners Council, NAEPC, and the Centre Region Estate Planning Council, centreregionepc.org.\n \n \n  \nTopic:\n   \n"Charitable Strategies to Help Create and Protect Legacy"\n   \nDate:\n   \nWednesday, June 11, 2014\n   \nTime:\n   \n3:00 pm - 4:00 pm ET\n   \nLocation:\n   \nKish Bank, North Atherton\n   \n \n   \n2610 Green Tech Drive, State College\n   \nRSVP:\n   \nTo Dan Keane at 861-4660 x8277, or daniel.keane@kishbank.com no later than Monday, June 2, 2014\n
SUMMARY:Charitable Strategies - Centre Region Estate Planning Council 
PRIORITY:3
BEGIN:VALARM
TRIGGER:PT18H
ACTION:DISPLAY
DESCRIPTION:Reminder
END:VALARM
END:VEVENT
END:VCALENDAR